BEGIN:VCALENDAR
VERSION:2.0
PRODID:-//THD Veranstaltungen//th-deg.de//DE
CALSCALE:GREGORIAN
BEGIN:VEVENT
DTSTART:20260609T083000
DTEND:20260610T150000
LOCATION:Würzburg
DTSTAMP:20260609T083000
SUMMARY:Vocatium Messe
DESCRIPTION:Studien- und Ausbildungsmesse<br />\n
UID:e9ba4019fbbb98bda122a8c212277f89@th-deg.de
END:VEVENT
END:VCALENDAR